BEGIN:VCALENDAR
VERSION:2.0
PRODID:icalendar-ruby
CALSCALE:GREGORIAN
BEGIN:VEVENT
DTSTAMP:20260423T182903Z
UID:77db9ada-6357-41a6-8c59-ca52b1133708
DTSTART;VALUE=DATE:20251127
DESCRIPTION:Property ID# 600033\, Locatoin: 8 Kent Terrace\, Wellington\, T
 ime: 11:00AM
SUMMARY:Auction for 
END:VEVENT
END:VCALENDAR
