BEGIN:VCALENDAR
VERSION:2.0
PRODID:icalendar-ruby
CALSCALE:GREGORIAN
BEGIN:VEVENT
DTSTAMP:20260423T105519Z
UID:9a8e4f7b-dc09-4f0a-a654-8c6a6b7492e3
DTSTART;VALUE=DATE:20251203
DESCRIPTION:Property ID# 599923\, Locatoin: Ray White Kilbirnie ( 30 Bay Ro
 ad\, Kilbirnie\, Wellington) \, Time: 2:00PM
SUMMARY:Auction for 
END:VEVENT
END:VCALENDAR
