BEGIN:VCALENDAR
VERSION:2.0
PRODID:icalendar-ruby
CALSCALE:GREGORIAN
BEGIN:VEVENT
DTSTAMP:20260422T090900Z
UID:638d54b8-820e-4f6a-b1d9-620335bc0a19
DTSTART;VALUE=DATE:20251105
DESCRIPTION:Property ID# 598482\, Locatoin: Harcourts Tawa Realty Ltd\, 215
  Main Road\, Tawa\, Time: 4:00PM
SUMMARY:Auction for 
END:VEVENT
END:VCALENDAR
