BEGIN:VCALENDAR
VERSION:2.0
PRODID:icalendar-ruby
CALSCALE:GREGORIAN
BEGIN:VEVENT
DTSTAMP:20260422T104814Z
UID:1b6d07da-ff71-4e51-ad6d-38f9cd2621f4
DTSTART;VALUE=DATE:20250522
DESCRIPTION:Property ID# 591784\, Locatoin: 176 Main Road\, Tawa\, Time: 12
 :00PM
SUMMARY:Auction for 
END:VEVENT
END:VCALENDAR
