BEGIN:VCALENDAR
VERSION:2.0
PRODID:icalendar-ruby
CALSCALE:GREGORIAN
BEGIN:VEVENT
DTSTAMP:20260424T022938Z
UID:ae6e3f3e-bc8a-490e-b6ac-f303eb1f6c0f
DTSTART;VALUE=DATE:20250327
DESCRIPTION:Property ID# 589359\, Locatoin: 8 Kent Terrace\, Wellington\, T
 ime: 12:00PM
SUMMARY:Auction for 
END:VEVENT
END:VCALENDAR
