BEGIN:VCALENDAR
VERSION:2.0
PRODID:icalendar-ruby
CALSCALE:GREGORIAN
BEGIN:VEVENT
DTSTAMP:20260424T084703Z
UID:798a6ec8-7142-4b65-9714-e9d1d56463f3
DTSTART;VALUE=DATE:20240501
DESCRIPTION:Property ID# 573760\, Locatoin: Harcourts Tawa Realty Ltd\, 215
  Main Road\, Tawa\, Time: 4:00PM
SUMMARY:Auction for 
END:VEVENT
END:VCALENDAR
