BEGIN:VCALENDAR
VERSION:2.0
PRODID:icalendar-ruby
CALSCALE:GREGORIAN
BEGIN:VEVENT
DTSTAMP:20260422T144323Z
UID:b228b605-92a2-404d-b23b-1890d9106bf3
DTSTART;VALUE=DATE:20230706
DESCRIPTION:Property ID# 558730\, Locatoin: 8 Kent Terrace\, Wellington\, T
 ime: 12:00PM
SUMMARY:Auction for 
END:VEVENT
END:VCALENDAR
