BEGIN:VCALENDAR
VERSION:2.0
PRODID:icalendar-ruby
CALSCALE:GREGORIAN
BEGIN:VEVENT
DTSTAMP:20260424T122001Z
UID:77bc8c47-208f-4a4f-a845-0b52f69afd86
DTSTART;VALUE=DATE:20230301
DESCRIPTION:Property ID# 551766\, Locatoin: 215 Main Road\, Tawa\, Wellingt
 on 5028\, Time: 4:00PM
SUMMARY:Auction for 
END:VEVENT
END:VCALENDAR
