BEGIN:VCALENDAR
VERSION:2.0
PRODID:icalendar-ruby
CALSCALE:GREGORIAN
BEGIN:VEVENT
DTSTAMP:20260421T224835Z
UID:fdc82e50-34aa-4bd1-9707-ac1fb179564e
DTSTART;VALUE=DATE:20210729
DESCRIPTION:Property ID# 514163\, Locatoin: 8 Kent Terrace\, Mount Victoria
 \, Wellington\, Time: 12:00PM
SUMMARY:Auction for 
END:VEVENT
END:VCALENDAR
