BEGIN:VCALENDAR
VERSION:2.0
PRODID:icalendar-ruby
CALSCALE:GREGORIAN
BEGIN:VEVENT
DTSTAMP:20260422T150931Z
UID:6b36ef6b-868f-41a9-847c-2a2e234bf741
DTSTART;VALUE=DATE:20200722
DESCRIPTION:Property ID# 483214\, Locatoin: Harcourts Tawa Realty Limited\,
  215 Main Road\, Tawa\, Time: 4:00PM
SUMMARY:Auction for 
END:VEVENT
END:VCALENDAR
