BEGIN:VCALENDAR
VERSION:2.0
PRODID:icalendar-ruby
CALSCALE:GREGORIAN
BEGIN:VEVENT
DTSTAMP:20260424T023323Z
UID:c20c0c16-b050-4fb2-8715-b8f9eff13575
DTSTART;VALUE=DATE:20191218
DESCRIPTION:Property ID# 468775\, Locatoin: 21 Ganges Road\, Khandallah\, T
 ime: 12:00PM
SUMMARY:Auction for 
END:VEVENT
END:VCALENDAR
