BEGIN:VCALENDAR
VERSION:2.0
PRODID:icalendar-ruby
CALSCALE:GREGORIAN
BEGIN:VEVENT
DTSTAMP:20210119T034249Z
UID:36b50170-f5af-4a46-9dda-3c82dd74904d
DTSTART;TZID=Pacific/Auckland:20210124T114500
DTEND;TZID=Pacific/Auckland:20210124T121500
DESCRIPTION:Property ID# 499552
SUMMARY:Openhome for 3/21 Collins Avenue
END:VEVENT
END:VCALENDAR
