BEGIN:VCALENDAR
VERSION:2.0
PRODID:icalendar-ruby
CALSCALE:GREGORIAN
BEGIN:VEVENT
DTSTAMP:20210119T034251Z
UID:bba46fa4-34e7-414e-be7e-46231bb9777e
DTSTART;VALUE=DATE:20210210
DESCRIPTION:Property ID# 499552\, Locatoin: Harcourts Tawa Realty Limited\,
  215 Main Road\, Tawa\, Time: 4:00PM
SUMMARY:Auction for 3/21 Collins Avenue
END:VEVENT
END:VCALENDAR
